BEGIN:VCALENDAR
VERSION:2.0
PRODID:-//Association of Health Care Journalists - ECPv6.15.11//NONSGML v1.0//EN
CALSCALE:GREGORIAN
METHOD:PUBLISH
X-ORIGINAL-URL:https://healthjournalism.org
X-WR-CALDESC:Events for Association of Health Care Journalists
REFRESH-INTERVAL;VALUE=DURATION:PT1H
X-Robots-Tag:noindex
X-PUBLISHED-TTL:PT1H
BEGIN:VTIMEZONE
TZID:America/New_York
BEGIN:DAYLIGHT
TZOFFSETFROM:-0500
TZOFFSETTO:-0400
TZNAME:EDT
DTSTART:20200308T070000
END:DAYLIGHT
BEGIN:STANDARD
TZOFFSETFROM:-0400
TZOFFSETTO:-0500
TZNAME:EST
DTSTART:20201101T060000
END:STANDARD
BEGIN:DAYLIGHT
TZOFFSETFROM:-0500
TZOFFSETTO:-0400
TZNAME:EDT
DTSTART:20210314T070000
END:DAYLIGHT
BEGIN:STANDARD
TZOFFSETFROM:-0400
TZOFFSETTO:-0500
TZNAME:EST
DTSTART:20211107T060000
END:STANDARD
BEGIN:DAYLIGHT
TZOFFSETFROM:-0500
TZOFFSETTO:-0400
TZNAME:EDT
DTSTART:20220313T070000
END:DAYLIGHT
BEGIN:STANDARD
TZOFFSETFROM:-0400
TZOFFSETTO:-0500
TZNAME:EST
DTSTART:20221106T060000
END:STANDARD
END:VTIMEZONE
BEGIN:VEVENT
DTSTART;TZID=America/New_York:20210323T010000
DTEND;TZID=America/New_York:20210323T010000
DTSTAMP:20260420T101259
CREATED:20231103T183512Z
LAST-MODIFIED:20231109T155104Z
UID:26826-1616461200-1616461200@healthjournalism.org
SUMMARY:Post-COVID health: What will we need to catch up on?
DESCRIPTION:<!– \nHow to participate\n\nRevealed until filter time \nA link to the webcast will be posted here about 15 minutes before it begins. \nÂ» Please use this diagnostic test page to be sure you’re set up correctly to enter the webcast. \n\n\nRevealed after filter time \nClick here\, choose the “Guest” option\, type in your name and then click on the “Enter room” button.” For a better experience\, choose the Adobe Connect app instead of your browser to view the webcast. \n\n–> \nResources\n\nRecorded webcast (For a better experience\, choose the Adobe Connect app instead of your browser to view the webcast.)\n<!– \nResources\n–>\n \n\nMarch 23\, 2021\, 1 p.m. ET\nNote: This AHCJ webcast aired before one of the speakers\, Howard Bauchner\, M.D.\, was placed on administrative leave pending an investigation by the American Medical Association’s Journal Oversight Committee into a controversial JAMA podcast about structural racism in medicine. On June 1\, 2021\, he tendered his resignation effective June 30\, 2021. The AHCJ webcast focused on looking forward about health care stories in coming months. AHCJ believes this webcast still contains valuable COVID-19 information for colleagues. \nWhat health issues have been set aside during the pandemic\, what are the ramifications of that and how will patients and doctors catch up? \n\n\nHoward Bauchner\, M.D.\, editor\, JAMA\, American Medical Association \n\n\nLeana Wen\, M.D.\, visiting professor of health policy and management\, George Washington University \n\n\nModerator: Fran Kritz\, freelance health care writer \n\n\nHoward Bauchner\, M.D.\, was appointed the 16th editor-in-chief of JAMA and the JAMA Network in 2011. Prior to coming to JAMA\, Howard was a professor of pediatrics and public health at Boston University School of Medicine and editor-in-chief of Archives of Disease in Childhood (2003-2011). At BUSM he was vice chair of research for the Department of Pediatrics and chief\, Division of General Pediatrics. He is a member of the National Academy of Medicine and an honorary fellow of the Royal College of Paediatrics and Child Health\, United Kingdom. At JAMA\, Bauchner has focused on publishing important and novel research articles and special communications\, improving and expanding clinical content\, using electronic/digital approaches to enhance communication\, and ensuring a commitment to innovation. \nLeana Wen\, M.D.\, is an emergency physician and visiting professor of health policy and management at George Washington University\, where she is also a distinguished fellow at the Fitzhugh Mullan Institute for Health Workforce Equity. She is an expert in public health preparedness and previously served as Baltimore’s health commissioner. She’s the author of the book “When Doctors Don’t Listen: How to Avoid Misdiagnoses and Unnecessary Tests” and the forthcoming book\, “Lifelines: A Doctor’s Journey in the Fight for Public Health.” A contributing columnist for The Washington Post\, Wen is a frequent guest commentator on the COVID-19 crisis. \n\nHoward Bauchner \n\n\nLeana Wen \n\n\nFran Kritz
URL:https://healthjournalism.org/event/post-covid-health-what-will-we-need-to-catch-up-on/
CATEGORIES:Webinar
END:VEVENT
END:VCALENDAR