BEGIN:VCALENDAR
VERSION:2.0
PRODID:-//Association of Health Care Journalists - ECPv6.15.11//NONSGML v1.0//EN
CALSCALE:GREGORIAN
METHOD:PUBLISH
X-ORIGINAL-URL:https://healthjournalism.org
X-WR-CALDESC:Events for Association of Health Care Journalists
REFRESH-INTERVAL;VALUE=DURATION:PT1H
X-Robots-Tag:noindex
X-PUBLISHED-TTL:PT1H
BEGIN:VTIMEZONE
TZID:America/New_York
BEGIN:DAYLIGHT
TZOFFSETFROM:-0500
TZOFFSETTO:-0400
TZNAME:EDT
DTSTART:20200308T070000
END:DAYLIGHT
BEGIN:STANDARD
TZOFFSETFROM:-0400
TZOFFSETTO:-0500
TZNAME:EST
DTSTART:20201101T060000
END:STANDARD
BEGIN:DAYLIGHT
TZOFFSETFROM:-0500
TZOFFSETTO:-0400
TZNAME:EDT
DTSTART:20210314T070000
END:DAYLIGHT
BEGIN:STANDARD
TZOFFSETFROM:-0400
TZOFFSETTO:-0500
TZNAME:EST
DTSTART:20211107T060000
END:STANDARD
BEGIN:DAYLIGHT
TZOFFSETFROM:-0500
TZOFFSETTO:-0400
TZNAME:EDT
DTSTART:20220313T070000
END:DAYLIGHT
BEGIN:STANDARD
TZOFFSETFROM:-0400
TZOFFSETTO:-0500
TZNAME:EST
DTSTART:20221106T060000
END:STANDARD
END:VTIMEZONE
BEGIN:VEVENT
DTSTART;TZID=America/New_York:20210226T010000
DTEND;TZID=America/New_York:20210226T010000
DTSTAMP:20260420T153127
CREATED:20231103T183440Z
LAST-MODIFIED:20231109T150358Z
UID:26814-1614301200-1614301200@healthjournalism.org
SUMMARY:Covering airborne transmission and COVID-19: What to know
DESCRIPTION:<!– \nHow to participate\n\nRevealed until filter time \nA link to the webcast will be posted here about 15 minutes before it begins. \n» Please use this diagnostic test page to be sure you’re set up correctly to enter the webcast. \n\n\nRevealed after filter time \nClick here\, choose the “Guest” option\, type in your name and then click on the “Enter room” button.” For a better experience\, choose the Adobe Connect app instead of your browser to view the webcast. \n\n–> \nResources\n\nRecorded webcast (For a better experience\, choose the Adobe Connect app instead of your browser to view the webcast.)\n<!– \nResources\n–>\n \n\nFeb. 26\, 2021\, 12:30-1:30 p.m. ET\nAt the very beginning of the pandemic\, there was lots of uncertainty about the primary transmission route of COVID-19. Increasingly\, the evidence is showing the virus spreads through the air. \nWhy did it take scientists so long to determine this? What do we know now about airborne transmission of SARS-CoV-2 and is it possible to create indoor environments so that schools and businesses can be open safely? How should journalists cover this aspect of the story as President Biden is pushing to reopen schools for in-person learning in March and many state governors are allowing businesses to increase the number of people permitted indoors at the same time? \nHear from two experts on this topic: one an expert on how infectious diseases spread in the air\, and the other an infectious disease epidemiologist and hospital preventionist. \n\n\nJoseph Allen\, D.Sc.\, M.P.H.\, associate professor\, Harvard T.H. Chan School of Public Health \n\n\nSaskia Popescu\, Ph.D.\, assistant professor\, infectious disease preventionist\, George Mason University Schar School of Policy and Government \n\n\nModerator: Bara Vaida\, AHCJ topic leader/infectious diseases \n\n\nDr. Joseph G. Allen began his career conducting forensic health investigations of sick buildings in several hundred buildings across a diverse range of industries\, including healthcare\, biotechnology\, education\, commercial office real estate and manufacturing. At Harvard\, Dr. Allen directs the Healthy Buildings program\, where he created “The 9 Foundations of a Healthy Building.” He is also the faculty advisor to the Harvard Healthier Building Materials Academy. He works with Fortune 100 companies on implementing Healthy Building strategies in their global portfolios and presents internationally on the topic of Healthy Buildings. \nPopescu is an experienced infectious disease epidemiologist and infection preventionist with a strong background in enhancing healthcare biopreparedness\, infectious disease threats\, pandemic preparedness/response\, project management\, translation of complex issues into frontline applications\, and disease surveillance. She is an assistant professor within the biodefense graduate program at George Mason University\, serving as a consultant with the World Health Organization and helping to lead the Netflix infection prevention efforts for return to production work. She is also an affiliate of the Georgetown University Center for Global Health Science and Security. \n\nJoseph Allen \n\n\nSaskia Popescu \n\n\nBara Vaida
URL:https://healthjournalism.org/event/covering-airborne-transmission-and-covid-19-what-to-know/
CATEGORIES:Webinar
END:VEVENT
END:VCALENDAR