BEGIN:VCALENDAR
VERSION:2.0
PRODID:-//Association of Health Care Journalists - ECPv6.15.11//NONSGML v1.0//EN
CALSCALE:GREGORIAN
METHOD:PUBLISH
X-ORIGINAL-URL:https://healthjournalism.org
X-WR-CALDESC:Events for Association of Health Care Journalists
REFRESH-INTERVAL;VALUE=DURATION:PT1H
X-Robots-Tag:noindex
X-PUBLISHED-TTL:PT1H
BEGIN:VTIMEZONE
TZID:America/New_York
BEGIN:DAYLIGHT
TZOFFSETFROM:-0500
TZOFFSETTO:-0400
TZNAME:EDT
DTSTART:20210314T070000
END:DAYLIGHT
BEGIN:STANDARD
TZOFFSETFROM:-0400
TZOFFSETTO:-0500
TZNAME:EST
DTSTART:20211107T060000
END:STANDARD
BEGIN:DAYLIGHT
TZOFFSETFROM:-0500
TZOFFSETTO:-0400
TZNAME:EDT
DTSTART:20220313T070000
END:DAYLIGHT
BEGIN:STANDARD
TZOFFSETFROM:-0400
TZOFFSETTO:-0500
TZNAME:EST
DTSTART:20221106T060000
END:STANDARD
BEGIN:DAYLIGHT
TZOFFSETFROM:-0500
TZOFFSETTO:-0400
TZNAME:EDT
DTSTART:20230312T070000
END:DAYLIGHT
BEGIN:STANDARD
TZOFFSETFROM:-0400
TZOFFSETTO:-0500
TZNAME:EST
DTSTART:20231105T060000
END:STANDARD
BEGIN:DAYLIGHT
TZOFFSETFROM:-0500
TZOFFSETTO:-0400
TZNAME:EDT
DTSTART:20240310T070000
END:DAYLIGHT
BEGIN:STANDARD
TZOFFSETFROM:-0400
TZOFFSETTO:-0500
TZNAME:EST
DTSTART:20241103T060000
END:STANDARD
BEGIN:DAYLIGHT
TZOFFSETFROM:-0500
TZOFFSETTO:-0400
TZNAME:EDT
DTSTART:20250309T070000
END:DAYLIGHT
BEGIN:STANDARD
TZOFFSETFROM:-0400
TZOFFSETTO:-0500
TZNAME:EST
DTSTART:20251102T060000
END:STANDARD
BEGIN:DAYLIGHT
TZOFFSETFROM:-0500
TZOFFSETTO:-0400
TZNAME:EDT
DTSTART:20260308T070000
END:DAYLIGHT
BEGIN:STANDARD
TZOFFSETFROM:-0400
TZOFFSETTO:-0500
TZNAME:EST
DTSTART:20261101T060000
END:STANDARD
BEGIN:DAYLIGHT
TZOFFSETFROM:-0500
TZOFFSETTO:-0400
TZNAME:EDT
DTSTART:20270314T070000
END:DAYLIGHT
BEGIN:STANDARD
TZOFFSETFROM:-0400
TZOFFSETTO:-0500
TZNAME:EST
DTSTART:20271107T060000
END:STANDARD
END:VTIMEZONE
BEGIN:VEVENT
DTSTART;TZID=America/New_York:20260416T130000
DTEND;TZID=America/New_York:20260416T140000
DTSTAMP:20260421T213744
CREATED:20260324T211012Z
LAST-MODIFIED:20260324T211015Z
UID:63002-1776344400-1776348000@healthjournalism.org
SUMMARY:Lunch and Learn: How to stay accountable
DESCRIPTION:Think about your goals for your freelance work: Are you hoping to get assignments from a wider number of publications? Or maybe from a “dream” publication? Do you want to be more organized and productive? Or just to feel more encouraged and motivated?  \n\n\n\nWe’ll talk about how to stay focused on your goals\, either with an “accountability partner” or by finding your own way to stay accountable. \n\n\n\nAt AHCJ’s Lunch and Learns\, freelancer members chat about a designated topic over Zoom every third Thursday of the month at 1 p.m. ET. Registration is required for Lunch and Learns and is only available to current freelance AHCJ members.
URL:https://healthjournalism.org/event/lunch-and-learn-how-to-stay-accountable/
CATEGORIES:Freelancers,Lunch and Learn
ATTACH;FMTTYPE=image/png:https://healthjournalism.org/wp-content/uploads/2024/08/Lunch-and-Learn-Logo.png
END:VEVENT
BEGIN:VEVENT
DTSTART;TZID=America/New_York:20260319T130000
DTEND;TZID=America/New_York:20260319T140000
DTSTAMP:20260421T213744
CREATED:20260311T210416Z
LAST-MODIFIED:20260311T210418Z
UID:62845-1773925200-1773928800@healthjournalism.org
SUMMARY:Lunch and Learn: How to land a pitch
DESCRIPTION:Freelancers\, what was the secret to your successful pitches? We’ll talk about how to pitch for different types of stories—narrative\, short explanatory pieces\, wellness\, trade publications\, and more. \n\n\n\nAt AHCJ’s Lunch and Learns\, freelancer members chat about a designated topic over Zoom every third Thursday of the month at 1 p.m. ET. Registration is required for Lunch and Learns and is only available to current freelance AHCJ members.
URL:https://healthjournalism.org/event/lunch-and-learn-how-to-land-a-pitch/
CATEGORIES:Freelancers,Lunch and Learn
ATTACH;FMTTYPE=image/png:https://healthjournalism.org/wp-content/uploads/2024/08/Lunch-and-Learn-Logo.png
END:VEVENT
BEGIN:VEVENT
DTSTART;TZID=America/New_York:20260219T130000
DTEND;TZID=America/New_York:20260219T140000
DTSTAMP:20260421T213744
CREATED:20251212T190735Z
LAST-MODIFIED:20251212T190738Z
UID:61915-1771506000-1771509600@healthjournalism.org
SUMMARY:Get Organized: Tips and tools for keeping on track and managing clutter
DESCRIPTION:Join fellow freelance journalists for a Lunch and Learn discussion about staying on track and how to manage your electronic and physical clutter. \n\n\n\nAt AHCJ’s Lunch and Learns\, freelancer members chat about a designated topic over Zoom every third Thursday of the month at 1 p.m. ET. Registration is required for Lunch and Learns and is only available to current freelance AHCJ members.
URL:https://healthjournalism.org/event/get-organized-tips-and-tools-for-keeping-on-track-and-managing-clutter/
CATEGORIES:Freelancers,Lunch and Learn
ATTACH;FMTTYPE=image/png:https://healthjournalism.org/wp-content/uploads/2024/08/Lunch-and-Learn-Logo.png
END:VEVENT
BEGIN:VEVENT
DTSTART;TZID=America/New_York:20260115T130000
DTEND;TZID=America/New_York:20260115T140000
DTSTAMP:20260421T213744
CREATED:20251212T185927Z
LAST-MODIFIED:20251212T190057Z
UID:61911-1768482000-1768485600@healthjournalism.org
SUMMARY:Stand up for yourself: How to be your own best advocate
DESCRIPTION:Join a discussion with fellow freelance journalists about how to be your own best advocate. For January’s Lunch and Learn\, we’ll talk about how to negotiate changes in contract language\, how to ask for more money from an editor\, how to navigate an unresponsive editor when you have a timely story\, and more. \n\n\n\nAt AHCJ’s Lunch and Learns\, freelancer members chat about a designated topic over Zoom every third Thursday of the month at 1 p.m. ET. Registration is required for Lunch and Learns and is only available to current freelance AHCJ members.
URL:https://healthjournalism.org/event/stand-up-for-yourself-how-to-be-your-own-best-advocate/
CATEGORIES:Lunch and Learn
ATTACH;FMTTYPE=image/png:https://healthjournalism.org/wp-content/uploads/2024/08/Lunch-and-Learn-Logo.png
END:VEVENT
BEGIN:VEVENT
DTSTART;TZID=America/New_York:20251120T130000
DTEND;TZID=America/New_York:20251120T140000
DTSTAMP:20260421T213744
CREATED:20250812T235221Z
LAST-MODIFIED:20251118T224234Z
UID:60669-1763643600-1763647200@healthjournalism.org
SUMMARY:Lunch and Learn: These are Stressful Times. How Are You Coping?
DESCRIPTION:This will focus on the practical (not expressly political) issues that we’re facing amid an implosion in our industry and radical changes in the health care landscape. How are you getting accurate information and data? How are you finding reliable sources? How are you navigating sudden changes as editors leave\, get laid off or retire? How are you coping with your own stress? Let’s share strategies. \n\n\n\nRegistration is now required for Lunch and Learns. You only need to register one time to be automatically registered for all Lunch and Learns. Not sure if you’ve already registered? Try searching your email for “AHCJ Lunch & Learn Confirmation.”
URL:https://healthjournalism.org/event/lunch-and-learn-these-are-stressful-times-how-are-you-coping/
CATEGORIES:Event,Freelancers,Lunch and Learn
ATTACH;FMTTYPE=image/png:https://healthjournalism.org/wp-content/uploads/2024/08/Lunch-and-Learn-Logo.png
END:VEVENT
BEGIN:VEVENT
DTSTART;TZID=America/New_York:20251016T130000
DTEND;TZID=America/New_York:20251016T140000
DTSTAMP:20260421T213744
CREATED:20250812T234007Z
LAST-MODIFIED:20251006T191041Z
UID:60667-1760619600-1760623200@healthjournalism.org
SUMMARY:Lunch and Learn: AI and you
DESCRIPTION:It’s been a while since we first broached the subject of AI and freelance journalism\, and so much has changed. We’ll share how we’re using AI in research\, drafts\, headlines — even to enhance pitches or check for similar articles on the topic. And we’ll discuss how our client publications are responding — some may be using AI\, some may be prohibiting its use. Randy Dotinga will start us off with his experiences and insights. \n\n\n\nAt AHCJ’s Lunch and Learns\, freelancer members chat about a designated topic over Zoom every third Thursday of the month at 1 p.m. ET. Registration is now required for Lunch and Learns and is only available to current freelance AHCJ members.
URL:https://healthjournalism.org/event/lunch-and-learn-ai-and-you/
CATEGORIES:Event,Freelancers,Lunch and Learn
ATTACH;FMTTYPE=image/png:https://healthjournalism.org/wp-content/uploads/2024/08/Lunch-and-Learn-Logo.png
END:VEVENT
BEGIN:VEVENT
DTSTART;TZID=America/New_York:20250918T130000
DTEND;TZID=America/New_York:20250918T140000
DTSTAMP:20260421T213744
CREATED:20250812T233626Z
LAST-MODIFIED:20250902T214727Z
UID:60664-1758200400-1758204000@healthjournalism.org
SUMMARY:Lunch and Learn: Let's talk about money
DESCRIPTION:Let’s talk about money. As in…how are you making it? Do you balance journalism with content writing—and if so\, how do you manage potential conflicts? Do you have side gigs\, such as teaching or editing/proofreading/factchecking (or even a part-time job)? Do you make money from a Substack column or YouTube channel or other alternative platform? We’d love to hear about it. \n\n\n\nAt AHCJ’s Lunch and Learns\, freelancer members chat about a designated topic over Zoom every third Thursday of the month at 1 p.m. ET. Registration is now required for Lunch and Learns.
URL:https://healthjournalism.org/event/lunch-and-learn-lets-talk-about-money/
CATEGORIES:Event,Freelancers,Lunch and Learn
ATTACH;FMTTYPE=image/png:https://healthjournalism.org/wp-content/uploads/2024/08/Lunch-and-Learn-Logo.png
END:VEVENT
BEGIN:VEVENT
DTSTART;TZID=America/New_York:20250515T130000
DTEND;TZID=America/New_York:20250515T140000
DTSTAMP:20260421T213744
CREATED:20250401T221828Z
LAST-MODIFIED:20250401T221833Z
UID:59059-1747314000-1747317600@healthjournalism.org
SUMMARY:Lunch and Learn: What's in your contract?
DESCRIPTION:Update: This session has been moved from April to May. Find the April Lunch and Learn here. \n\n\n\nAt AHCJ’s Lunch and Learns\, freelancer members chat about a designated topic over Zoom every third Thursday of the month at 1 p.m. Eastern Time. The Zoom link is new for 2025. \n\n\n\nFor May\, we’ll talk about freelance contracts; understanding terms\, negotiating terms and new issues for the current times.
URL:https://healthjournalism.org/event/lunch-and-learn-whats-in-your-contract-2/
CATEGORIES:Freelancers,Lunch and Learn
ATTACH;FMTTYPE=image/png:https://healthjournalism.org/wp-content/uploads/2024/08/Lunch-and-Learn-Logo.png
END:VEVENT
BEGIN:VEVENT
DTSTART;TZID=America/New_York:20250417T130000
DTEND;TZID=America/New_York:20250417T140000
DTSTAMP:20260421T213744
CREATED:20250401T220127Z
LAST-MODIFIED:20250401T220131Z
UID:59052-1744894800-1744898400@healthjournalism.org
SUMMARY:Lunch and Learn: Need Advice? Ask a Freelancer!
DESCRIPTION:At AHCJ’s Lunch and Learns\, freelancer members chat about a designated topic over Zoom every third Thursday of the month at 1 p.m. ET. \n\n\n\nFor April\, we’ll crowdsource advice to your freelance challenges\, such as how to handle being ghosted by an editor\, having “scope creep” in your assignment\, and finding a home for a cherished story idea.
URL:https://healthjournalism.org/event/lunch-and-learn-need-advice-ask-a-freelancer/
CATEGORIES:Freelancers,Lunch and Learn
ATTACH;FMTTYPE=image/png:https://healthjournalism.org/wp-content/uploads/2024/08/Lunch-and-Learn-Logo.png
END:VEVENT
BEGIN:VEVENT
DTSTART;TZID=America/New_York:20250320T130000
DTEND;TZID=America/New_York:20250320T140000
DTSTAMP:20260421T213744
CREATED:20241218T173953Z
LAST-MODIFIED:20250113T173738Z
UID:57808-1742475600-1742479200@healthjournalism.org
SUMMARY:Lunch and Learn: Pitching your ideal publication
DESCRIPTION:At AHCJ’s Lunch and Learns\, freelancer members chat about a designated topic over Zoom every third Thursday of the month at 1 p.m. Eastern Time. The Zoom link is new for 2025.
URL:https://healthjournalism.org/event/lunch-and-learn-pitching-your-ideal-publication/
CATEGORIES:Event,Freelancers,Lunch and Learn
END:VEVENT
BEGIN:VEVENT
DTSTART;TZID=America/New_York:20250220T130000
DTEND;TZID=America/New_York:20250220T140000
DTSTAMP:20260421T213744
CREATED:20241218T173643Z
LAST-MODIFIED:20250113T173038Z
UID:57804-1740056400-1740060000@healthjournalism.org
SUMMARY:Lunch and Learn: Freelancer free-for-all
DESCRIPTION:At AHCJ’s Lunch and Learns\, freelancer members chat about a designated topic over Zoom every third Thursday of the month at 1 p.m. Eastern Time. The Zoom link is new for 2025. \n\n\n\nFor February’s freelancer free-for-all\, journalists can bring any question or issue they want to discuss and we’ll share advice.
URL:https://healthjournalism.org/event/lunch-and-learn-freelancer-free-for-all-2/
CATEGORIES:Event,Freelancers,Lunch and Learn
END:VEVENT
BEGIN:VEVENT
DTSTART;TZID=America/New_York:20250116T130000
DTEND;TZID=America/New_York:20250116T140000
DTSTAMP:20260421T213744
CREATED:20241218T172459Z
LAST-MODIFIED:20250113T172937Z
UID:57802-1737032400-1737036000@healthjournalism.org
SUMMARY:Lunch and Learn: Tips and tools to meet your goals
DESCRIPTION:At AHCJ’s Lunch and Learns\, freelancer members chat about a designated topic over Zoom every third Thursday of the month at 1 p.m. Eastern Time. The Zoom link is new for 2025.
URL:https://healthjournalism.org/event/lunch-and-learn-tips-and-tools-to-meet-your-goals/
CATEGORIES:Freelancers,Lunch and Learn
END:VEVENT
BEGIN:VEVENT
DTSTART;TZID=America/New_York:20241212T130000
DTEND;TZID=America/New_York:20241212T140000
DTSTAMP:20260421T213744
CREATED:20240830T202930Z
LAST-MODIFIED:20240830T202936Z
UID:56298-1734008400-1734012000@healthjournalism.org
SUMMARY:Lunch and Learn: Jump start your freelance biz into 2025
DESCRIPTION:The new year is the perfect time to reassess your freelance business. Some freelancers formally do this — even holding a solo business retreat at a hotel or other venue\, where they can review their past work\, evaluate the strengths and weaknesses of their freelance business and consider other paths forward. We’ll hear from freelancers who have done this successfully — and discuss other ways to pause and reset for 2025. \n\n\n\nAt AHCJ’s Lunch and Learns\, freelancer members chat about a designated topic over Zoom every third Thursday of the month at 1 p.m. Eastern Time. This event takes place on the second Thursday of the month due to the holidays. The Zoom link is always the same.
URL:https://healthjournalism.org/event/lunch-and-learn-jump-start-your-freelance-biz-into-2025/
CATEGORIES:Freelancers,Lunch and Learn
ATTACH;FMTTYPE=image/png:https://healthjournalism.org/wp-content/uploads/2024/08/Lunch-and-Learn-Logo.png
END:VEVENT
BEGIN:VEVENT
DTSTART;TZID=America/New_York:20241121T130000
DTEND;TZID=America/New_York:20241121T140000
DTSTAMP:20260421T213744
CREATED:20240830T202633Z
LAST-MODIFIED:20240830T202637Z
UID:56293-1732194000-1732197600@healthjournalism.org
SUMMARY:Lunch and Learn: Do you need an accountability partner?
DESCRIPTION:Accountability partners give each other feedback and encouragement on freelance goals and hold each other accountable for taking the next steps. During this discussion\, we’ll share our freelance challenges\, such as battling procrastination\, re-pitching when a pitch is rejected\, shifting to different outlets and increasing productivity. We’ll also offer tips for finding and keeping an accountability partner. Maybe you’ll find a partner who can help you realize your goals. \n\n\n\nAt AHCJ’s Lunch and Learns\, freelancer members chat about a designated topic over Zoom every third Thursday of the month at 1 p.m. Eastern Time. The Zoom link is always the same.
URL:https://healthjournalism.org/event/lunch-and-learn-do-you-need-an-accountability-partner/
CATEGORIES:Freelancers,Lunch and Learn
END:VEVENT
BEGIN:VEVENT
DTSTART;TZID=America/New_York:20241017T130000
DTEND;TZID=America/New_York:20241017T140000
DTSTAMP:20260421T213744
CREATED:20240719T210628Z
LAST-MODIFIED:20240719T210631Z
UID:55297-1729170000-1729173600@healthjournalism.org
SUMMARY:Lunch and Learn: Building a niche beat as a freelance health journalist
DESCRIPTION:At AHCJ’s Lunch and Learns\, freelancer members chat about a designated topic over Zoom every third Thursday of the month at 1 p.m. Eastern Time. The Zoom link is always the same.
URL:https://healthjournalism.org/event/lunch-and-learn-building-a-niche-beat-as-a-freelance-health-journalist/
CATEGORIES:Freelancers,Lunch and Learn
END:VEVENT
BEGIN:VEVENT
DTSTART;TZID=America/New_York:20240919T130000
DTEND;TZID=America/New_York:20240919T140000
DTSTAMP:20260421T213744
CREATED:20240719T210138Z
LAST-MODIFIED:20240719T210216Z
UID:55294-1726750800-1726754400@healthjournalism.org
SUMMARY:Lunch and Learn: How to get fair pay and tailor work to pay
DESCRIPTION:At AHCJ’s Lunch and Learns\, freelancer members chat about a designated topic over Zoom every third Thursday of the month at 1 p.m. Eastern Time. The Zoom link is always the same.
URL:https://healthjournalism.org/event/lunch-and-learn-how-to-get-fair-pay-and-tailor-work-to-pay/
CATEGORIES:Freelancers,Lunch and Learn
END:VEVENT
BEGIN:VEVENT
DTSTART;TZID=America/New_York:20240516T130000
DTEND;TZID=America/New_York:20240516T140000
DTSTAMP:20260421T213744
CREATED:20240307T191554Z
LAST-MODIFIED:20240307T191557Z
UID:52287-1715864400-1715868000@healthjournalism.org
SUMMARY:Lunch and Learn: Finding the Right Story Mix
DESCRIPTION:At AHCJ’s Lunch and Learns\, freelancer members chat about a designated topic over Zoom every third Thursday of the month at 1 p.m. Eastern Time. The Zoom link is always the same.
URL:https://healthjournalism.org/event/lunch-and-learn-finding-the-right-story-mix/
CATEGORIES:Freelancers,Lunch and Learn
END:VEVENT
BEGIN:VEVENT
DTSTART;TZID=America/New_York:20240418T130000
DTEND;TZID=America/New_York:20240418T140000
DTSTAMP:20260421T213744
CREATED:20240307T191052Z
LAST-MODIFIED:20240307T191054Z
UID:52281-1713445200-1713448800@healthjournalism.org
SUMMARY:Lunch and Learn: How to be a freelance nomad
DESCRIPTION:At AHCJ’s Lunch and Learns\, freelancer members chat about a designated topic over Zoom every third Thursday of the month at 1 p.m. Eastern Time. The Zoom link is always the same.
URL:https://healthjournalism.org/event/lunch-and-learn-how-to-be-a-freelance-nomad/
CATEGORIES:Freelancers,Lunch and Learn
END:VEVENT
BEGIN:VEVENT
DTSTART;TZID=America/New_York:20240321T130000
DTEND;TZID=America/New_York:20240321T140000
DTSTAMP:20260421T213744
CREATED:20240216T222857Z
LAST-MODIFIED:20240216T222957Z
UID:51698-1711026000-1711029600@healthjournalism.org
SUMMARY:Lunch and Learn: Freelancer Free-for-all
DESCRIPTION:At AHCJ’s Lunch and Learns\, freelancer members chat about a designated topic over Zoom every third Thursday of the month at 1 p.m. Eastern Time. The Zoom link is always the same. This time\, the topic is open\, so come prepared to ask your fellow freelancers for help with anything from coping with a mean editor to buying the right stand-up desk.
URL:https://healthjournalism.org/event/lunch-and-learn-freelancer-free-for-all/
CATEGORIES:Freelancers,Lunch and Learn
END:VEVENT
BEGIN:VEVENT
DTSTART;TZID=America/New_York:20240215T130000
DTEND;TZID=America/New_York:20240215T130000
DTSTAMP:20260421T213744
CREATED:20231218T193214Z
LAST-MODIFIED:20240123T171340Z
UID:50076-1708002000-1708002000@healthjournalism.org
SUMMARY:Lunch and Learn: Overcoming writer's block
DESCRIPTION:At AHCJ’s Lunch and Learns\, freelancer members chat about a designated topic over Zoom every third Thursday of the month at 1 p.m. Eastern Time. The Zoom link is always the same.
URL:https://healthjournalism.org/event/lunch-and-learn-overcoming-writers-block/
CATEGORIES:Freelancers,Lunch and Learn
ATTACH;FMTTYPE=image/png:https://healthjournalism.org/wp-content/uploads/2023/12/AHCJ-Fallback-Image-Hi-res.png
END:VEVENT
BEGIN:VEVENT
DTSTART;TZID=America/New_York:20240118T130000
DTEND;TZID=America/New_York:20240118T130000
DTSTAMP:20260421T213744
CREATED:20231218T181706Z
LAST-MODIFIED:20240104T161159Z
UID:50066-1705582800-1705582800@healthjournalism.org
SUMMARY:Lunch and Learn: Finding anchor clients
DESCRIPTION:At AHCJ’s Lunch and Learns\, freelancer members chat about a designated topic over Zoom every third Thursday of the month at 1 p.m. Eastern Time. The Zoom link is always the same.
URL:https://healthjournalism.org/event/lunch-and-learn-finding-anchor-clients/
CATEGORIES:Freelancers,Lunch and Learn
ATTACH;FMTTYPE=image/png:https://healthjournalism.org/wp-content/uploads/2023/12/AHCJ-Fallback-Image-Hi-res.png
END:VEVENT
BEGIN:VEVENT
DTSTART;TZID=America/New_York:20220915T010000
DTEND;TZID=America/New_York:20220915T010000
DTSTAMP:20260421T213744
CREATED:20231103T185108Z
LAST-MODIFIED:20231218T192734Z
UID:26947-1663203600-1663203600@healthjournalism.org
SUMMARY:Lunch and Learn: Finding ... and keeping ... accountability partners
DESCRIPTION:When/Where: 1:00 p.m. ET\, Sept. 15 (virtual) \nView the webcastMeeting ID: 943 4281 6993
URL:https://healthjournalism.org/event/lunch-and-learn-finding-and-keeping-accountability-partners/
CATEGORIES:Freelancers,Lunch and Learn,None,Webinar
END:VEVENT
END:VCALENDAR