BEGIN:VCALENDAR
VERSION:2.0
PRODID:-//Association of Health Care Journalists - ECPv6.15.11//NONSGML v1.0//EN
CALSCALE:GREGORIAN
METHOD:PUBLISH
X-WR-CALNAME:Association of Health Care Journalists
X-ORIGINAL-URL:https://healthjournalism.org
X-WR-CALDESC:Events for Association of Health Care Journalists
REFRESH-INTERVAL;VALUE=DURATION:PT1H
X-Robots-Tag:noindex
X-PUBLISHED-TTL:PT1H
BEGIN:VTIMEZONE
TZID:America/New_York
BEGIN:DAYLIGHT
TZOFFSETFROM:-0500
TZOFFSETTO:-0400
TZNAME:EDT
DTSTART:20240310T070000
END:DAYLIGHT
BEGIN:STANDARD
TZOFFSETFROM:-0400
TZOFFSETTO:-0500
TZNAME:EST
DTSTART:20241103T060000
END:STANDARD
BEGIN:DAYLIGHT
TZOFFSETFROM:-0500
TZOFFSETTO:-0400
TZNAME:EDT
DTSTART:20250309T070000
END:DAYLIGHT
BEGIN:STANDARD
TZOFFSETFROM:-0400
TZOFFSETTO:-0500
TZNAME:EST
DTSTART:20251102T060000
END:STANDARD
BEGIN:DAYLIGHT
TZOFFSETFROM:-0500
TZOFFSETTO:-0400
TZNAME:EDT
DTSTART:20260308T070000
END:DAYLIGHT
BEGIN:STANDARD
TZOFFSETFROM:-0400
TZOFFSETTO:-0500
TZNAME:EST
DTSTART:20261101T060000
END:STANDARD
END:VTIMEZONE
BEGIN:VEVENT
DTSTART;TZID=America/New_York:20250515T130000
DTEND;TZID=America/New_York:20250515T140000
DTSTAMP:20260420T070116
CREATED:20250401T221828Z
LAST-MODIFIED:20250401T221833Z
UID:59059-1747314000-1747317600@healthjournalism.org
SUMMARY:Lunch and Learn: What's in your contract?
DESCRIPTION:Update: This session has been moved from April to May. Find the April Lunch and Learn here. \n\n\n\nAt AHCJ’s Lunch and Learns\, freelancer members chat about a designated topic over Zoom every third Thursday of the month at 1 p.m. Eastern Time. The Zoom link is new for 2025. \n\n\n\nFor May\, we’ll talk about freelance contracts; understanding terms\, negotiating terms and new issues for the current times.
URL:https://healthjournalism.org/event/lunch-and-learn-whats-in-your-contract-2/
CATEGORIES:Freelancers,Lunch and Learn
ATTACH;FMTTYPE=image/png:https://healthjournalism.org/wp-content/uploads/2024/08/Lunch-and-Learn-Logo.png
END:VEVENT
END:VCALENDAR