BEGIN:VCALENDAR
VERSION:2.0
PRODID:-//Association of Health Care Journalists - ECPv6.15.11//NONSGML v1.0//EN
CALSCALE:GREGORIAN
METHOD:PUBLISH
X-WR-CALNAME:Association of Health Care Journalists
X-ORIGINAL-URL:https://healthjournalism.org
X-WR-CALDESC:Events for Association of Health Care Journalists
REFRESH-INTERVAL;VALUE=DURATION:PT1H
X-Robots-Tag:noindex
X-PUBLISHED-TTL:PT1H
BEGIN:VTIMEZONE
TZID:America/New_York
BEGIN:DAYLIGHT
TZOFFSETFROM:-0500
TZOFFSETTO:-0400
TZNAME:EDT
DTSTART:20210314T070000
END:DAYLIGHT
BEGIN:STANDARD
TZOFFSETFROM:-0400
TZOFFSETTO:-0500
TZNAME:EST
DTSTART:20211107T060000
END:STANDARD
BEGIN:DAYLIGHT
TZOFFSETFROM:-0500
TZOFFSETTO:-0400
TZNAME:EDT
DTSTART:20220313T070000
END:DAYLIGHT
BEGIN:STANDARD
TZOFFSETFROM:-0400
TZOFFSETTO:-0500
TZNAME:EST
DTSTART:20221106T060000
END:STANDARD
BEGIN:DAYLIGHT
TZOFFSETFROM:-0500
TZOFFSETTO:-0400
TZNAME:EDT
DTSTART:20230312T070000
END:DAYLIGHT
BEGIN:STANDARD
TZOFFSETFROM:-0400
TZOFFSETTO:-0500
TZNAME:EST
DTSTART:20231105T060000
END:STANDARD
END:VTIMEZONE
BEGIN:VEVENT
DTSTART;TZID=America/New_York:20220428T010000
DTEND;TZID=America/New_York:20220501T010000
DTSTAMP:20260421T221433
CREATED:20231025T162337Z
LAST-MODIFIED:20231109T151719Z
UID:24429-1651107600-1651366800@healthjournalism.org
SUMMARY:AHCJ conference in Austin\, April 28-May 1
DESCRIPTION:Conference home\nPreliminary program\n<!– \nRegistration\n–> \nRegistration rates\nHotel\n\n\nExhibit or advertise\nExhibitors\nCOVID-19\nFellowships\n\n\n\n\n\nChiquita Brooks-LaSure\, administrator for the Centers for Medicare and Medicaid Services (CMS)\, will be the featured keynote speaker at Health Journalism 2022 in Austin. \nThe conference will be held April 28-May 1 at the Hilton Austin. The hotel is attached to the Austin Convention Center via a covered walkway — two blocks from East Sixth Street nightlife and less than a mile from the picturesque Rainey Street Historic District. \nAs the leader of CMS\, Brooks-LaSure plays a key role in shaping the federal response to some of the nation’s most pressing issues in health care\, including the continuing response to the pandemic. Addressing health inequities has also been at the top of her priority list. In her testimony tothe Senate Finance Committee in April 2021\, Brooks-LaSure — the first Black woman to lead CMS — emphasized the need to “expand access to quality care for all communities.” \nTwo field trips were being planned to sites in Austin where innovations are happening in research\, clinical and community environments\, including: \n\n\nThe VISLAB at the Texas Advanced Computing Center\, University of Texas\, which creates visualizations to support research and presents them on one of the world’s largest high-resolution tiled displays. \n\n\nCommunity First! Village\, a 51-acre master planned\, innovative model community that provides affordable\, permanent housing and a supportive community for men and women coming out of chronic homelessness. A development of Mobile Loaves & Fishes\, this transformative residential program exists to love and serve people who have been living on the streets\, while also empowering the surrounding community into a lifestyle of service with the homeless. \n\n\nA collaborative treatment center at Dell Medical Center that illustrates how thoughtful design can change the patient experience. \n\n\nA visit to the biomedical/biomechanical lab of Dr. James Sulzer at UT-Austin (recently profiled in The Atlantic magazine) where he and his team attempt to fill knowledge gaps related to stroke recovery and the development of new rehabilitation strategies. \n\n\nLone Star Circle of Care in Taylor\, Texas\, a community anchor and health hub that attempts to move as far upstream in the social determinants of health “river” as possible and create access to care for families along the continuum – from birth to older adults. \n\n\nField trips and workshops will be followed by a newcomer session\, a kickoff plenary session\, and a “Welcome to Austin” reception. \nPanels\, popular events and new features \nThis three-and-a-half-day conference will be packed with panels and workshops led by journalists and world-class speakers about a wide range of topics including: \n\n\nNew abortion laws and their likely impact on women’s reproductive health \n\n\nThe future of public health and pandemics – are we any better off today than we were in March 2020? \n\n\nAn extensive look at patient safety 10 years after the infamous “Dr. Death” case \n\n\nHow to cover the LGBTQ community \n\n\nHow research in medical science has been affected in some positive ways by the pandemic \n\n\nReframing gun violence as a public health issue \n\n\nThe quest for COVID-19 data: Where “official sources” fell short and others stepped in \n\n\nThe sex gap: How male-centric medicine hurts everyone \n\n\nHow to help your readers understand the “information blocking” rule and how it relates to patient safety \n\n\nHospital ransomware attacks: Why they’re happening and what can be done about them \n\n\nThe climate crisis\, public health and deepening inequities \n\n\nHow to track “dark money” from Big Pharma. \n\n\nThe conference exhibit hall opens Friday\, April 29\, creating informal networking opportunities for attendees and the chance to win prizes. PitchFest — a conference favorite — will take place that afternoon. As always\, attendees will be able to pitch story ideas to editors and walk away with assignments. AHCJ’s annual membership meeting is set for early evening on Friday. \nSaturday\, April 30\, the final full day of the conference\, will include several “how-to” sessions and the awards luncheon\, which celebrates the best health care reporting. \nOn Sunday morning\, May 1\, after a session on reporter self-care\, AHCJ core topic leader for infectious diseases Bara Vaida will lead a yoga session\, so bring your mat and wind down before you head home. \nRegistrants unable to attend the conference in person will have access to some live-streamed events and sessions via the Whova app including\, the opening night plenary session\, the membership meeting\, the awards luncheon and 10 panel discussions. \n\n\n\n\n\nCall for ideas\nAHCJ is gathering ideas for conference workshops and panels. Please submit suggestions before March 19. \nClick here for your opportunity to submit ideas for consideration. \n\n\n\n\n  \n\nSponsorship team\n  \nHosts\nUniversity of Texas Dell Medical School \nMeadows Mental Health Policy Institute \nSt. David’s Foundation \nArnold Ventures \n\nEndowing sponsors\nRobert Wood Johnson Foundation \nThe Leona M. and Harry B. Helmsley Charitable Trust \nGordon and Betty Moore Foundation \n\nSponsors\nThe Commonwealth Fund \nEpiscopal Health Foundation \nThe Kresge Foundation \nPatient-Centered Outcomes Research Institute \nThe Pew Charitable Trusts \nThe John A. Hartford Foundation \nMayo Foundation for Medical Education and Research \nNew York State Health Foundation \nHealth Care Foundation of Western & Central New York \nCalifornia Health Care Foundation \nMissouri Foundation for Health \nColorado Health Foundation \nRhode Island Foundation \nThe JAMA Network \nMillbank Memorial Fund \nBurroughs Wellcome Fund \n  \n\n 
URL:https://healthjournalism.org/event/ahcj-conference-in-austin-april-28-may-1/
CATEGORIES:Annual Conference
END:VEVENT
END:VCALENDAR